BEGIN:VCALENDAR
VERSION:2.0
BEGIN:VEVENT
UID:DB3A0E7D-4805-4085-B614-59FA0526813F
DTSTART:20240914T130000Z
DTEND:20240914T150000Z
SUMMARY:Effective Weapon Retention(September Session)
DESCRIPTION:This class plays a vital role in addressing a pressing concern:
  numerous individuals\, including police officers who have undergone firea
 rm training\, often suffer injuries due to mishandling their own firearms.
  Thus\, having a comprehensive understanding of how to handle firearms app
 ropriately is paramount\, as it can prevent these accidents from happening
 . \n  \nIf you own\, carry\, or anticipate using a gun\, this class is a n
 ecessity. You'll acquire proven and effective techniques for maintaining c
 ontrol of your firearm and preventing it from slipping out of your grasp.
  Although this is a non-shooting class\, it can be adapted to an advanced
  firing session. MA Fitness 4400 34th St N\, St. Petersburg\, FL 33714 1PM
  - 3PM Reserve Your Spot Today\nMA Fitness\n4400 34th St N\, Unit F\nSt Pe
 tersburg\, FL 33714 United States\n
LOCATION:4400 34th St N\, Unit F\, St Petersburg\, FL 33714
URL:http://tampa.bubblelife.com/community/weapon_brand/library/3569767562/k
 ey/3511846551/Effective_Weapon_RetentionSeptember_Session
CREATED:20240524T111438Z
LAST-MODIFIED:20240524T111438Z
DTSTAMP:20260421T135036Z
CLASS:PUBLIC
STATUS:CONFIRMED
TRANSP:TRANSPARENT
SEQUENCE:1
END:VEVENT
END:VCALENDAR
