BEGIN:VCALENDAR
VERSION:2.0
BEGIN:VEVENT
UID:718658CC-2D92-4530-9405-FA7833FA32F5
DTSTART:20260516T100000Z
DTEND:20260516T150000Z
SUMMARY:Spotlight on Limelight Market
DESCRIPTION:Spotlight on Limelight Market \n This Saturday (and every 3rd S
 aturday)\, Sept 16 from 10-3 the Spotlight is on Limelight Market! This fu
 n\, pop up market happens in the courtyard of The Bazaar on Apricot & Lime
  with rescue dogs\, unique guest vendors\, food\, and live music by George
  Parmelee. Check out the 40+ local creators and curators inside. Great way
  to support local! Free\, until you buy something amazing!   \n  \nTender
  Heart Charities will be bringing a liter of five adorable puppies looking
  for fur-ever homes. Also joining this month is Siesta Key Rum\, Myakka’s
  Gold Apiary\, Charlie Sarasota\, Petite Bird\, Mystic Blooms\,   Rare Can
 dy\, Rock Creek Shrubs\, and Thrift Chicks   \n  \nSarasota Street Talk\,
  a popular podcast with Mark Klecka and Scott Malouf\, will be recording a
 nd broadcasting live. Be sure to say hi to them and maybe you’ll end up be
 ing interviewed! \n  \nFor more information visit www.BazaaronApricotandli
 me.com   Located at 821 Apricot Ave\, Sarasota\nThe Bazaar on Apricot & Li
 me\n821 apricot ave\nsarasota\, FL 34237 United States\n
LOCATION:821 apricot ave\, sarasota\, FL 34237
URL:http://tampa.bubblelife.com/community/tampa_calendar/library/35823682/k
 ey/3511042841/Spotlight_on_Limelight_Market
CREATED:20230913T221642Z
LAST-MODIFIED:20230913T221642Z
DTSTAMP:20260420T081800Z
RRULE:FREQ=MONTHLY;WKST=SA;BYDAY=3SA
CLASS:PUBLIC
STATUS:CONFIRMED
TRANSP:TRANSPARENT
SEQUENCE:1
END:VEVENT
END:VCALENDAR
